BEGIN:VCALENDAR
VERSION:2.0
PRODID:-//eventon.com NONSGML v1.0//EN
BEGIN:VEVENT
UID:69e61fe944b13
DTSTAMP:20260420T134529
DTSTART:20260922T120000Z
DTEND:20260922T130000Z
TZID:Europe/London
LOCATION:The Monastery Manchester 89\,  Gorton Lane
SUMMARY:Silent Meditation at the Monastery
DESCRIPTION: Each day\,  from Sunday-Thursday at The Monastery\,  there is an hour of meditation and silence between 12-1. Some days it will be in the beautiful great Nave\,  with its unique healing energy. At other times it may be in our intimate private chapel or even alfresco\,  in our soulful\,  healing[..]\nhttps://themonastery.co.uk/events/silent-meditation-manchester/var/ri-193.l-L1
URL:https://themonastery.co.uk/events/silent-meditation-manchester/var/ri-193.l-L1
END:VEVENT
END:VCALENDAR