BEGIN:VCALENDAR
VERSION:2.0
PRODID:-//eventon.com NONSGML v1.0//EN
BEGIN:VEVENT
UID:69e9f82f2c4ea
DTSTAMP:20260423T114503
DTSTART:20260318T130000Z
DTEND:20260318T150000Z
TZID:Europe/London
LOCATION:The Monastery Manchester 89\,  Gorton Lane
SUMMARY:Hook Holistic Healing Sessions
DESCRIPTION: Who are Hook Healers? The Hook Healing Trust was established over 40 years ago\,  with SNU qualified and trainee healers. These healers work in and around the Gorton area\,  bringing healing energies to all\,  along with dedicating themselves to sending absent healing throughout the world. What is healing energy? Healing[..]\nhttps://themonastery.co.uk/events/hook-healing/var/ri-13.l-L1
URL:https://themonastery.co.uk/events/hook-healing/var/ri-13.l-L1
END:VEVENT
END:VCALENDAR