BEGIN:VCALENDAR
VERSION:2.0
PRODID:-//eventon.com NONSGML v1.0//EN
BEGIN:VEVENT
UID:69e6175e49828
DTSTAMP:20260420T130902
DTSTART:20220721T130000Z
DTEND:20220721T143000Z
TZID:Europe/London
LOCATION:The Monastery Manchester 89\,  Gorton Lane
SUMMARY:Anxiety & Depression Recovery Course
DESCRIPTION: Anxiety and depression recovery drop-in & course with psychotherapist\,  Charmain Berry\,  running for 6 weeks starting Thursday 21st July at 1pm. One thing we do know about anxiety and depression is that pretty much everyone experiences these feelings at some time in life\,  and for some people they can become[..]\nhttps://themonastery.co.uk/events/depression-anxiety-recovery-manchester/
URL:https://themonastery.co.uk/events/depression-anxiety-recovery-manchester/
END:VEVENT
END:VCALENDAR