BEGIN:VCALENDAR
VERSION:2.0
PRODID:-//eventon.com NONSGML v1.0//EN
BEGIN:VEVENT
UID:69e5fe4c90ab3
DTSTAMP:20260420T112204
DTSTART:20220804T130000Z
DTEND:20220804T143000Z
TZID:Europe/London
LOCATION:The Monastery Manchester 89\,  Gorton Lane
SUMMARY:Anxiety & Depression Recovery Course
DESCRIPTION: Anxiety and depression recovery drop-in & course with psychotherapist\,  Charmain Berry\,  running for 6 weeks starting Thursday 21st July at 1pm. One thing we do know about anxiety and depression is that pretty much everyone experiences these feelings at some time in life\,  and for some people they can become[..]\nhttps://themonastery.co.uk/events/depression-anxiety-recovery-manchester/var/ri-2.l-L1
URL:https://themonastery.co.uk/events/depression-anxiety-recovery-manchester/var/ri-2.l-L1
END:VEVENT
END:VCALENDAR