BEGIN:VCALENDAR
VERSION:2.0
PRODID:-//eventon.com NONSGML v1.0//EN
BEGIN:VEVENT
UID:69e6a6071d1f7
DTSTAMP:20260420T231743
DTSTART:20221218T190000Z
DTEND:20221218T210000Z
TZID:Pacific/Midway
LOCATION:The Monastery Manchester 89\,  Gorton Lane
SUMMARY:Christmas Concert | Snow in the Street
DESCRIPTION: Lucinda & Marcus Christmas Concert Featuring their festive album Snow in the Street and so much more&#8230; Please join us for a wonderful Christmas concert on Sunday 18th December 2022 at 7pm to celebrate the real meaning of Christmas with the voice of One Hundred Thousand Angels\,  Lucinda Drayton and her[..]\nhttps://themonastery.co.uk/events/christmas-concert-2022-lucinda-drayton/
URL:https://themonastery.co.uk/events/christmas-concert-2022-lucinda-drayton/
END:VEVENT
END:VCALENDAR