BEGIN:VCALENDAR
VERSION:2.0
PRODID:-//eventon.com NONSGML v1.0//EN
BEGIN:VEVENT
UID:69e4c303b5392
DTSTAMP:20260419T125651
DTSTART:20220920T100000Z
DTEND:20220920T113000Z
TZID:Europe/London
LOCATION:The Monastery Manchester 89\,  Gorton Lane
SUMMARY:Yoga Circle with Zara
DESCRIPTION: Please join us for this wonderful\,  weekly\,  drop-in yoga circle at the Sanctuary of Peace and Healing\,  starting from 10-11.30am\,  Tuesday 20th September 2022. Who is leading the yoga circle? This beautiful\,  compassionate and gentle wellness class will be led by one of our listeners\,  trained yoga instructor Zara Rajczonek\,  who[..]\nhttps://themonastery.co.uk/events/yoga-circle-manchester/
URL:https://themonastery.co.uk/events/yoga-circle-manchester/
END:VEVENT
END:VCALENDAR