BEGIN:VCALENDAR
VERSION:2.0
PRODID:-//eventon.com NONSGML v1.0//EN
BEGIN:VEVENT
UID:69e6c66003ed2
DTSTAMP:20260421T013544
DTSTART:20221102T110000Z
DTEND:20221102T123000Z
TZID:Europe/London
LOCATION:The Monastery Manchester 89\,  Gorton Lane
SUMMARY:Group Coaching for Weight Loss
DESCRIPTION: Group Coaching for Weight Loss is a six-week myth-busting behaviour change journey based on the current scientific evidence led by Daxa Jobanputra\,  A-CFHC &#8211; a certified functional health coach\,  here at the Sanctuary of Peace & Healing. Daxa will share her knowledge and first-hand experience with the benefits of the[..]\nhttps://themonastery.co.uk/events/group-coaching-for-weight-loss-manchester/
URL:https://themonastery.co.uk/events/group-coaching-for-weight-loss-manchester/
END:VEVENT
END:VCALENDAR