BEGIN:VCALENDAR
VERSION:2.0
PRODID:-//eventon.com NONSGML v1.0//EN
BEGIN:VEVENT
UID:69e95e92ae93e
DTSTAMP:20260423T004938
DTSTART:20251207T160000Z
DTEND:20251207T180000Z
TZID:Europe/London
LOCATION:The Monastery Manchester 89\,  Gorton Lane
SUMMARY:Handel’s Messiah - Manchester Camerata
DESCRIPTION: Handel’s Messiah – Manchester Camerata at The Monastery Few works capture the spirit of Christmas quite like Handel’s Messiah. First performed over two centuries ago\,  this iconic oratorio was once described as “too fashionable for church” &#8211; selling out faster than today’s biggest festival headliners. Now a beloved national treasure[..]\nhttps://themonastery.co.uk/events/handels-messiah-manchester-camerata/
URL:https://themonastery.co.uk/events/handels-messiah-manchester-camerata/
END:VEVENT
END:VCALENDAR