BEGIN:VCALENDAR
VERSION:2.0
PRODID:-//eventon.com NONSGML v1.0//EN
BEGIN:VEVENT
UID:69e6a10e5f6af
DTSTAMP:20260420T225630
DTSTART:20240211T140000Z
DTEND:20240211T143000Z
TZID:Europe/London
LOCATION:The Monastery Manchester 89\,  Gorton Lane
SUMMARY:Organ Recitals Live @ the Monastery
DESCRIPTION: You are warmly invited to join us at the Monastery to enjoy the wonderful\,  live musicianship of Stephen Mann\,  the last organist of the Monastery (1989)\,  as he performs several organ recital dates\,  live at the Monastery. Stephen will be accompanied by James Hutton on violin & John Hofton on[..]\nhttps://themonastery.co.uk/events/organ-recitals-live-at-the-monastery-manchester/
URL:https://themonastery.co.uk/events/organ-recitals-live-at-the-monastery-manchester/
END:VEVENT
END:VCALENDAR