BEGIN:VCALENDAR
VERSION:2.0
PRODID:-//eventon.com NONSGML v1.0//EN
BEGIN:VEVENT
UID:69ec17b57c122
DTSTAMP:20260425T022405
DTSTART:20260301T113000Z
DTEND:20260301T123000Z
TZID:Europe/London
LOCATION:The Monastery Manchester 89\,  Gorton Lane
SUMMARY:Circle Dance Session (& Healing Sound Bath)
DESCRIPTION: Circle dance session with Ana Borges Da Costa Join Ana at the Monastery for a joyful session of circle dance. She will lead you in a short series of simple dances which draw upon a very rich international repertoire. Ana will teach you all the steps\,  so no prior knowledge[..]\nhttps://themonastery.co.uk/events/circle-dance-manchester/var/ri-2.l-L1
URL:https://themonastery.co.uk/events/circle-dance-manchester/var/ri-2.l-L1
END:VEVENT
END:VCALENDAR