BEGIN:VCALENDAR
VERSION:2.0
PRODID:-//eventon.com NONSGML v1.0//EN
BEGIN:VEVENT
UID:69e820a9a9c2a
DTSTAMP:20260422T021313
DTSTART:20260705T103000Z
DTEND:20260705T113000Z
TZID:Europe/London
LOCATION:The Monastery Manchester 89\,  Gorton Lane
SUMMARY:Healing Sound Bath (& Circle Dance)
DESCRIPTION: Healing sound bath with John Hofton Join John Hofton for a healing sound bath here at the Monastery\,  Manchester. For those of you wishing to lie down for the session\,  please bring a blanket. This session can be combined with Ana Borges Da Costa&#8217;s Circle Dance or taken alone. Please[..]\nhttps://themonastery.co.uk/events/healing-sound-bath-manchester/var/ri-6.l-L1
URL:https://themonastery.co.uk/events/healing-sound-bath-manchester/var/ri-6.l-L1
END:VEVENT
END:VCALENDAR