BEGIN:VCALENDAR
VERSION:2.0
PRODID:-//eventon.com NONSGML v1.0//EN
BEGIN:VEVENT
UID:69e76b58e7218
DTSTAMP:20260421T131936
DTSTART:20240201T193000Z
DTEND:20240201T220000Z
TZID:Europe/London
LOCATION:The Monastery Manchester 89\,  Gorton Lane
SUMMARY:Russell Watson LIVE
DESCRIPTION: &#x26d4;&#xfe0f; IMPORTANT &#x26d4;&#xfe0f;: This show replaces the cancelled show from 7th December\,  2023. Tickets booked for the cancelled December show will remain valid for this rescheduled show\,  1st February\,  2024. Come join multi-award winning tenor\,  Russell Watson\,  accompanied by world renowned pianist/arranger /writer\,  Mike Moran\,  soprano\,  Nancy May and the[..]\nhttps://themonastery.co.uk/events/russell-watson-live-manchester/
URL:https://themonastery.co.uk/events/russell-watson-live-manchester/
END:VEVENT
END:VCALENDAR