BEGIN:VCALENDAR
VERSION:2.0
PRODID:-//eventon.com NONSGML v1.0//EN
BEGIN:VEVENT
UID:69e6bc5276d3c
DTSTAMP:20260421T005250
DTSTART:20260312T114500Z
DTEND:20260312T124500Z
TZID:Europe/London
LOCATION:The Monastery Manchester 89\,  Gorton Lane
SUMMARY:Healing Sound Bath
DESCRIPTION: Healing sound bath with John Hofton Each Thursday\,  11.45am &#8211; 12.45pm Join John Hofton for a healing sound bath here at the Monastery\,  Manchester. For those of you wishing to lie down for the session\,  please bring a blanket. Healing sound bath and relaxation Sound healing is recognised as an[..]\nhttps://themonastery.co.uk/events/healing-sound-bath-thursdays/var/ri-8.l-L1
URL:https://themonastery.co.uk/events/healing-sound-bath-thursdays/var/ri-8.l-L1
END:VEVENT
END:VCALENDAR