BEGIN:VCALENDAR
VERSION:2.0
PRODID:-//eventon.com NONSGML v1.0//EN
BEGIN:VEVENT
UID:69ecefd63dabc
DTSTAMP:20260425T174614
DTSTART:20240719T200000Z
DTEND:20240719T220000Z
TZID:Europe/London
LOCATION:The Monastery Manchester 89\,  Gorton Lane
SUMMARY:Elton John Hits by Candlelight
DESCRIPTION: Elton John classic hits by Candlelight LIVE at the Monastery\,  Manchester Friday 19th July 2024 at 8.00pm Featuring a cast of West End singers and epic live band\,  experience the hits of Rock Legend Elton John as you have never heard them before. This incredible show features some of the[..]\nhttps://themonastery.co.uk/events/tribute-to-elton-john-manchester/
URL:https://themonastery.co.uk/events/tribute-to-elton-john-manchester/
END:VEVENT
END:VCALENDAR