BEGIN:VCALENDAR
VERSION:2.0
PRODID:-//eventon.com NONSGML v1.0//EN
BEGIN:VEVENT
UID:69e4eab048049
DTSTAMP:20260419T154608
DTSTART:20240922T130000Z
DTEND:20240922T150000Z
TZID:Europe/London
LOCATION:The Monastery Manchester 89\,  Gorton Lane
SUMMARY:Earth Energies & Ley Lines Workshop
DESCRIPTION: Sunday\,  22nd September 2024\,  1 &#8211; 3pm Understanding & Working with Earth Energies & Ley Lines Our planet is an alive & sentient being\,  that responds to many different stimuli & energies. Ancient humans were aware of this & incorporated this energy into structures both built and natural\,  ie: holy[..]\nhttps://themonastery.co.uk/events/earth-energies-lay-lines-workshop-manchester/
URL:https://themonastery.co.uk/events/earth-energies-lay-lines-workshop-manchester/
END:VEVENT
END:VCALENDAR