BEGIN:VCALENDAR
VERSION:2.0
PRODID:-//eventon.com NONSGML v1.0//EN
BEGIN:VEVENT
UID:69e73d901e94c
DTSTAMP:20260421T100416
DTSTART:20260222T101500Z
DTEND:20260222T114500Z
TZID:Europe/London
LOCATION:The Monastery Manchester 89\,  Gorton Lane
SUMMARY:Hidden In Plain Sight Sunday Tour
DESCRIPTION: Join Gill Harbach for a fascinating tour of the Monastery\,  to find out the Hidden Secrets\,  but actually In Plain Sight\,  of this amazing building. Go down the rabbit hole to discover all about sacred architecture\,  symbolism\,  mysticism\,  the real story of St Francis & St Clare\,  plus the Monastery’s[..]\nhttps://themonastery.co.uk/events/hidden-in-plain-sight-sunday-tour-manchester/var/ri-1.l-L1
URL:https://themonastery.co.uk/events/hidden-in-plain-sight-sunday-tour-manchester/var/ri-1.l-L1
END:VEVENT
END:VCALENDAR