BEGIN:VCALENDAR
VERSION:2.0
PRODID:-//eventon.com NONSGML v1.0//EN
BEGIN:VEVENT
UID:69e58cb04cab0
DTSTAMP:20260420T031720
DTSTART:20260627T200000Z
DTEND:20260627T223000Z
TZID:Europe/London
LOCATION:The Monastery Manchester 89\,  Gorton Lane
SUMMARY:Tina Turner by Candlelight
DESCRIPTION: Tina Turner by Candlelight comes to The Monastery\,  Manchester! Sat 27th June\,  2026 at 20:00 Let’s Stay Together for this euphoric night of Simply The Best Tina Turner hits\,  performed by Dixie Daye and her incredible live band\,  at the beautiful Monastery\,  by candlelight. Performing all of Tina’s biggest hits including River Deep Mountain High\,  Nutbush City[..]\nhttps://themonastery.co.uk/events/tina-turner-tribute-show-manchester/
URL:https://themonastery.co.uk/events/tina-turner-tribute-show-manchester/
END:VEVENT
END:VCALENDAR