BEGIN:VCALENDAR
VERSION:2.0
PRODID:-//eventon.com NONSGML v1.0//EN
BEGIN:VEVENT
UID:69e55d8b0184d
DTSTAMP:20260419T235611
DTSTART:20260401T173000Z
DTEND:20260401T193000Z
TZID:Europe/London
LOCATION:The Monastery Manchester 89\,  Gorton Lane
SUMMARY:Gorton Men's Circle | Mentell
DESCRIPTION: Gorton Men&#8217;s Circle is open\,  and if you&#8217;re a man aged 18 or over\,  please know that you&#8217;re very welcome to join us. What is a Men&#8217;s Circle? This men&#8217;s circle is a safe\,  confidential place to talk with other men\,  free from advice\,  judgement or commitment. Are there any[..]\nhttps://themonastery.co.uk/events/gorton-mens-circle/var/ri-13.l-L1
URL:https://themonastery.co.uk/events/gorton-mens-circle/var/ri-13.l-L1
END:VEVENT
END:VCALENDAR