BEGIN:VCALENDAR
VERSION:2.0
PRODID:-//eventon.com NONSGML v1.0//EN
BEGIN:VEVENT
UID:69ec2b1937315
DTSTAMP:20260425T034649
DTSTART:20240803T200000Z
DTEND:20240803T220000Z
TZID:Europe/London
LOCATION:The Monastery Manchester 89\,  Gorton Lane
SUMMARY:The Music of ABBA by Candlelight
DESCRIPTION: The Music Of ABBA By Candlelight returns to The Monastery\,  Manchester! Friday 2nd & Saturday 3rd August 2024 at 8.00pm Join us for an incredible night of Abba anthems\,  performed in the beautiful Monastery\,  Manchester\,  by candlelight. Featuring the UK&#8217;s leading Abba Tribute Act\,  Abba Reunion\,  join us for this[..]\nhttps://themonastery.co.uk/events/music-of-abba-by-candlelight-manchester/var/ri-1.l-L1
URL:https://themonastery.co.uk/events/music-of-abba-by-candlelight-manchester/var/ri-1.l-L1
END:VEVENT
END:VCALENDAR