BEGIN:VCALENDAR
VERSION:2.0
PRODID:-//eventon.com NONSGML v1.0//EN
BEGIN:VEVENT
UID:69e9024c0a6e5
DTSTAMP:20260422T181556
DTSTART:20250703T130000Z
DTEND:20250703T143000Z
TZID:Europe/London
LOCATION:The Monastery Manchester 89\,  Gorton Lane
SUMMARY:Acting Classes with Stefan Gumbs
DESCRIPTION: Do you want to Act? Are you a Drama Queen/King? Have you wanted to try something new and challenging? Actor Stefan Gumbs\,  best known for his roles in BBC’s Waterloo Road\,  BBC’s Doctors\,  Ken Loach’s Looking For Eric and many more TV\,  film and stage roles\,  will be hosting and[..]\nhttps://themonastery.co.uk/events/acting-classes-manchester/
URL:https://themonastery.co.uk/events/acting-classes-manchester/
END:VEVENT
END:VCALENDAR