BEGIN:VCALENDAR
VERSION:2.0
PRODID:-//eventon.com NONSGML v1.0//EN
BEGIN:VEVENT
UID:69e902c2c9e3b
DTSTAMP:20260422T181754
DTSTART:20260125T130000Z
DTEND:20260125T153000Z
TZID:Europe/London
LOCATION:The Monastery Manchester 89\,  Gorton Lane
SUMMARY:The Enlightenment
DESCRIPTION: Join Gill Harbach for The Enlightenment; a gathering of likeminded people coming together to learn\,  understand & share more about the world we are living in. About the The Enlightenment The world is shifting daily both physically\,  spiritually and energetically and it is affecting those of us who are wanting[..]\nhttps://themonastery.co.uk/events/the-enlightenment/
URL:https://themonastery.co.uk/events/the-enlightenment/
END:VEVENT
END:VCALENDAR