BEGIN:VCALENDAR
VERSION:2.0
PRODID:-//eventon.com NONSGML v1.0//EN
BEGIN:VEVENT
UID:69ecf952c6798
DTSTAMP:20260425T182642
DTSTART:20251129T200000Z
DTEND:20251129T223000Z
TZID:Europe/London
LOCATION:The Monastery Manchester 89\,  Gorton Lane
SUMMARY:Motown by Candlelight
DESCRIPTION: Motown By Candlelight returns to The Monastery\,  Manchester! Saturday 29th November 2025 at 8:00pm Calling all Motown music maniacs… I heard it through the grapevine\,  that Motown by candlelight is finally here and guaranteed to have you dancing in the street! Featuring a spectacular cast of world-class singers and stunning[..]\nhttps://themonastery.co.uk/events/motown-by-candlelight-manchester/
URL:https://themonastery.co.uk/events/motown-by-candlelight-manchester/
END:VEVENT
END:VCALENDAR