BEGIN:VCALENDAR
VERSION:2.0
PRODID:-//eventon.com NONSGML v1.0//EN
BEGIN:VEVENT
UID:69e8dafd121fc
DTSTAMP:20260422T152813
DTSTART:20261014T183000Z
DTEND:20261014T200000Z
TZID:Europe/London
LOCATION:The Monastery Manchester 89\,  Gorton Lane
SUMMARY:Halloween at the Movies by The Great British Film Orchestra
DESCRIPTION: The Great British Film Orchestra presents Halloween at the movies &#8211; performed in the stunning  Monastery Manchester Join us at the Monastery Manchester for a thrilling evening of live orchestral music\,  as Halloween at the Movies brings some of cinema’s most iconic soundtracks to life in a spectacular concert setting. As darkness falls\, [..]\nhttps://themonastery.co.uk/events/halloween-at-the-movies-by-the-great-british-film-orchestra/
URL:https://themonastery.co.uk/events/halloween-at-the-movies-by-the-great-british-film-orchestra/
END:VEVENT
END:VCALENDAR