BEGIN:VCALENDAR
VERSION:2.0
PRODID:-//eventon.com NONSGML v1.0//EN
BEGIN:VEVENT
UID:69ea0f576e34e
DTSTAMP:20260423T132351
DTSTART:20260613T120000Z
DTEND:20260613T150000Z
TZID:Europe/London
LOCATION:The Monastery Manchester 89\,  Gorton Lane
SUMMARY:Summer Wedding Open Day & Garden Ceremony Launch
DESCRIPTION: Summer Wedding Open Day & Garden Ceremony Launch at The Monastery\,  Manchester Looking for a unique wedding venue in Manchester? Join us for our Summer Wedding Open Day at The Monastery\,  a special opportunity to explore one of the city’s most iconic and atmospheric wedding venues. This event also marks[..]\nhttps://themonastery.co.uk/events/summer-wedding-open-day-manchester-garden-ceremony-2026/
URL:https://themonastery.co.uk/events/summer-wedding-open-day-manchester-garden-ceremony-2026/
END:VEVENT
END:VCALENDAR