BEGIN:VCALENDAR
VERSION:2.0
PRODID:-//eventon.com NONSGML v1.0//EN
BEGIN:VEVENT
UID:69e8bf57daf20
DTSTAMP:20260422T133015
DTSTART:20260509T210000Z
DTEND:20260509T223000Z
TZID:Europe/London
LOCATION:The Monastery Manchester 89\,  Gorton Lane
SUMMARY:The Great British Film Orchestra Presents: The Music of John Williams vs Hans Zimmer
DESCRIPTION: The Great British Film Orchestra presents: The Music of John Williams & Hans Zimmer Live at The Monastery Manchester Experience a breathtaking celebration of two of cinema’s most iconic composers\,  John Williams and Hans Zimmer\,  brought to life by The Great British Film Orchestra in the stunning surroundings of The[..]\nhttps://themonastery.co.uk/events/the-great-british-film-orchestra-presents-the-music-of-john-williams-vs-hans-zimmer-manchester/var/ri-1.l-L1
URL:https://themonastery.co.uk/events/the-great-british-film-orchestra-presents-the-music-of-john-williams-vs-hans-zimmer-manchester/var/ri-1.l-L1
END:VEVENT
END:VCALENDAR